BEGIN:VCALENDAR
VERSION:2.0
PRODID:icalendar-ruby
CALSCALE:GREGORIAN
METHOD:PUBLISH
BEGIN:VEVENT
DTSTAMP:20260422T013737Z
UID:25-352963@obccriddle.org
DTSTART:20261020T010000Z
DTEND:20261020T040000Z
CLASS:PUBLIC
CREATED:20260421T182003
DESCRIPTION:Living Free meets at 6pm on Monday nights here at Open Bible Ch
 ristian center. Our mission is to facilitate hope\, faith\, and freedom by
  connecting and equipping people with solutions for better living. We prov
 ide dinner\, child care\, worship\, and group time. Check us out!
LAST-MODIFIED:20260421T182003
LOCATION:Open Bible Christian Center
SUMMARY:Living Free
URL;VALUE=URI:https://www.obccriddle.org/events/living-free/2026-10-19
ATTACH;FILENAME=Recovery-Ministry.png;FMTTYPE=image/png:https://dq5pwpg1q8r
 u0.cloudfront.net/2025/11/05/16/59/29/b2067c2c-9e2b-4519-8e1d-e7664d0a410a
 /Recovery-Ministry.png
END:VEVENT
END:VCALENDAR
