BEGIN:VCALENDAR
VERSION:2.0
PRODID:icalendar-ruby
CALSCALE:GREGORIAN
METHOD:PUBLISH
BEGIN:VEVENT
DTSTAMP:20260421T050218Z
UID:15-351177@obccriddle.org
DTSTART:20260723T153000Z
DTEND:20260723T163000Z
CLASS:PUBLIC
CREATED:20260420T180447
DESCRIPTION:Men join us every Thursday morning as we study the bible and ha
 ve breakfast together. Coffee is on as well. 
LAST-MODIFIED:20260420T180447
LOCATION:Open Bible Christian Center
SUMMARY:Thursday Morning Mens Breakfast
URL;VALUE=URI:https://www.obccriddle.org/events/thursday-morning-mens-break
 fast/2026-07-23
ATTACH;FILENAME=Mens-Breakfast.jpg;FMTTYPE=image/jpeg:https://dq5pwpg1q8ru0
 .cloudfront.net/2025/09/24/19/38/58/17cab7c0-8421-4fa7-be23-95956979ab25/M
 ens-Breakfast.jpg
END:VEVENT
END:VCALENDAR
