BEGIN:VCALENDAR
VERSION:2.0
PRODID:icalendar-ruby
CALSCALE:GREGORIAN
METHOD:PUBLISH
BEGIN:VEVENT
DTSTAMP:20260420T111109Z
UID:28-349584@obccriddle.org
DTSTART:20260824T000000Z
DTEND:20260824T020000Z
CLASS:PUBLIC
CREATED:20260420T002921
DESCRIPTION:For Students in 6th Grade thru 12th Grade
LAST-MODIFIED:20260420T002921
LOCATION:Open Bible Christian Center
SUMMARY:Youth Group
URL;VALUE=URI:https://www.obccriddle.org/events/youth-group/2026-08-23
ATTACH;FILENAME=youthgroup.png;FMTTYPE=image/png:https://dq5pwpg1q8ru0.clou
 dfront.net/2025/08/27/22/28/33/ab82c763-d14c-43d4-a8f9-218479496723/youthg
 roup.png
END:VEVENT
END:VCALENDAR
